BEGIN:VCALENDAR
VERSION:2.0
PRODID:icalendar-ruby
CALSCALE:GREGORIAN
METHOD:PUBLISH
BEGIN:VEVENT
DTSTAMP:20260420T133351Z
UID:6-336950@graceumcmesa.org
DTSTART:20261018T160000Z
DTEND:20261018T171500Z
CLASS:PUBLIC
CREATED:20260420T052935
DESCRIPTION:We ask all parents to bring their Sunday School children (ages 
 4 through 6th grade) to worship at 9:00am.\nAfter a special message for ch
 ildren\, they are dismissed with their teachers to Sunday School. Parents 
 are always welcome to accompany their children for some or all of Sunday S
 chool. Parents/Guardians must pick up and sign out children from the Sunda
 y School classroom following worship.\nOur curriculum is based on stories 
 of the Bible with the goal of helping children discover God’s love throu
 gh age-appropriate storytelling\, discussion\, fun activities and creative
  learning experiences.
LAST-MODIFIED:20260420T052935
LOCATION:Grace United Methodist Church Mesa
SUMMARY:Sunday School
URL;VALUE=URI:https://graceumcmesa.org/events/sunday-school/2026-10-18
ATTACH;FILENAME=cdc-gsRi9cWCIB0-unsplash.jpg;FMTTYPE=image/jpeg:https://dq5
 pwpg1q8ru0.cloudfront.net/2025/10/23/23/23/17/723d5f85-394c-404b-8578-f053
 12f08ddf/cdc-gsRi9cWCIB0-unsplash.jpg
END:VEVENT
END:VCALENDAR
